BEGIN:VCALENDAR
VERSION:2.0
PRODID:-//jEvents 2.0 for Joomla//EN
CALSCALE:GREGORIAN
METHOD:PUBLISH
BEGIN:VTIMEZONE
TZID:Europe/Madrid
END:VTIMEZONE
BEGIN:VEVENT
UID:65ka7tigml5f5rh43ufhvnift1@google.com
CATEGORIES:ÁREA GENERAL DEL CONGRESO - PARANINFO UAL
CREATED:20180416T115115
SUMMARY:Recogida de documentación
DESCRIPTION;ENCODING=QUOTED-PRINTABLE:
DTSTAMP:20260422T172609Z
DTSTART;TZID=Europe/Madrid:20180419T090000
DTEND;TZID=Europe/Madrid:20180419T093000
SEQUENCE:0
TRANSP:OPAQUE
END:VEVENT
END:VCALENDAR