BEGIN:VCALENDAR
VERSION:2.0
PRODID:-//jEvents 2.0 for Joomla//EN
CALSCALE:GREGORIAN
METHOD:PUBLISH
BEGIN:VTIMEZONE
TZID:Europe/Madrid
END:VTIMEZONE
BEGIN:VEVENT
UID:74n3tqfmhefjhd8bk050p206bf@google.com
CATEGORIES:Area 2b. PSICOLOGIA CLINICA Y DE LA SALUD/ CATASTROFES/ IGUALDAD / VIAL /  PSICOONCOLOGIA. SALA DE GRADOS DE CITE V. 
CREATED:20180416T114911
SUMMARY:Simposio 9. CATASTROFES  Y EMERGENCIAS (I)
DESCRIPTION;ENCODING=QUOTED-PRINTABLE:<br/>C31. Intervención en emergencias a través de la plataforma MeFacilyta.
  Bernal, N. y Fernández, G.<br/>C32. La tecnología al servicio de la Emerge
 ncia y la discapacidad. Asociación GEDES<br/>C33. Creación de microships su
 bcutáneos de geolocalización. Dña. María Encarnación Santiago Toro.
DTSTAMP:20260423T124815Z
DTSTART;TZID=Europe/Madrid:20180420T120000
DTEND;TZID=Europe/Madrid:20180420T140000
SEQUENCE:0
TRANSP:OPAQUE
END:VEVENT
END:VCALENDAR