BEGIN:VCALENDAR
VERSION:2.0
PRODID:-//jEvents 2.0 for Joomla//EN
CALSCALE:GREGORIAN
METHOD:PUBLISH
BEGIN:VTIMEZONE
TZID:Europe/Madrid
END:VTIMEZONE
BEGIN:VEVENT
UID:0c7a7jv5ub1rqoa31o4fl1469p@google.com
CATEGORIES:Area 1.  PSICOLOGIA, INNOVACION Y EMPRENDIMIENTO - SALA DE GRADOS PARANINFO
CREATED:20180416T114826
SUMMARY:Taller 1. Elaboración de Proyectos y Contratos colaborativos.
DESCRIPTION;ENCODING=QUOTED-PRINTABLE:Elaboración de Proyectos y Contratos colaborativos.<br/>Fernando  Diánez y 
   Beatriz Cantón. OTRI. UAL 
DTSTAMP:20260422T172647Z
DTSTART;TZID=Europe/Madrid:20180419T130000
DTEND;TZID=Europe/Madrid:20180419T140000
SEQUENCE:0
TRANSP:OPAQUE
END:VEVENT
END:VCALENDAR